BEGIN:VCALENDAR
PRODID: -//CFLIB.ORG//iCalUS()//EN
VERSION:2.0
METHOD:REQUEST
BEGIN:VTIMEZONE
BEGIN:STANDARD
DTSTART:20061101T020000
RRULE:FREQ=YEARLY;INTERVAL=1;BYDAY=1SU;BYMONTH=11
TZOFFSETFROM:-0400
TZOFFSETTO:-0500
TZNAME:Standard Time
END:STANDARD
BEGIN:DAYLIGHT
DTSTART:20060301T020000
RRULE:FREQ=YEARLY;INTERVAL=1;BYDAY=2SU;BYMONTH=3
TZOFFSETFROM:-0500
TZOFFSETTO:-0400
TZNAME:Daylight Savings Time
END:DAYLIGHT
END:VTIMEZONE
BEGIN:VEVENT
UID:1614465357923.CFLIB.ORG
ORGANIZER;CN=:MAILTO:
DTSTAMP:20210228T093557
DTSTART;TZID=Eastern Time:20210301T120000
DTEND;TZID=Eastern Time:20210301T130000
SUMMARY:DINGLE PARTNERS - OFI/OPEN HOME - 519/528 Swanston Street, CARLTON, 3053
LOCATION:519/528 Swanston Street, CARLTON, 3053
DESCRIPTION:OFI/OPEN HOME - 519/528 Swanston Street, CARLTON, 3053\n\nMonday 12:00PM-1:00PM\n\nClick the link for full listing information: http://www.dinglepartners.com.au?/property/3432412
PRIORITY:1
TRANSP:OPAQUE
CLASS:PUBLIC
BEGIN:VALARM
TRIGGER:-PT30M
ACTION:DISPLAY
DESCRIPTION:Reminder
END:VALARM
END:VEVENT
END:VCALENDAR 